BEGIN:VCALENDAR
VERSION:2.0
PRODID:-//Ipswich Turf Club - ECPv4.6.10.1//NONSGML v1.0//EN
CALSCALE:GREGORIAN
METHOD:PUBLISH
X-WR-CALNAME:Ipswich Turf Club
X-ORIGINAL-URL:https://ipswichturfclub.com.au
X-WR-CALDESC:Events for Ipswich Turf Club
BEGIN:VEVENT
DTSTART;VALUE=DATE:20191030
DTEND;VALUE=DATE:20191031
DTSTAMP:20200301T212636
CREATED:20190403T041126Z
LAST-MODIFIED:20190912T051710Z
UID:5649-1572393600-1572479999@ipswichturfclub.com.au
SUMMARY:Race Day Wednesday 30 October 2019
DESCRIPTION: \nGates open – 10AM \nFields – click here \n
URL:https://ipswichturfclub.com.au/event/race-day-wednesday-30-october-2019/
LOCATION:219 Brisbane Road\, Bundamba\, Queensland\, 4305\, Australia
CATEGORIES:Race Days
END:VEVENT
END:VCALENDAR