BEGIN:VCALENDAR
VERSION:2.0
PRODID:-//Ipswich Turf Club - ECPv4.6.10.1//NONSGML v1.0//EN
CALSCALE:GREGORIAN
METHOD:PUBLISH
X-WR-CALNAME:Ipswich Turf Club
X-ORIGINAL-URL:https://ipswichturfclub.com.au
X-WR-CALDESC:Events for Ipswich Turf Club
BEGIN:VEVENT
DTSTART;VALUE=DATE:20200408
DTEND;VALUE=DATE:20200409
DTSTAMP:20200301T212435
CREATED:20190403T041143Z
LAST-MODIFIED:20190403T041143Z
UID:5671-1586304000-1586390399@ipswichturfclub.com.au
SUMMARY:Race Day Wednesday 8 April 2020
DESCRIPTION:
URL:https://ipswichturfclub.com.au/event/race-day-wednesday-8-april-2020/
LOCATION:219 Brisbane Road\, Bundamba\, Queensland\, 4305\, Australia
CATEGORIES:Race Days
END:VEVENT
END:VCALENDAR